BEGIN:VCALENDAR
VERSION:2.0
PRODID:-//Acme Widgets\, Inc.//NONSGML ExportToCalendar//EN
CALSCALE:GREGORIAN
BEGIN:VEVENT
DTSTAMP:20260424T114858Z
UID:e1ebd92a-dc2d-4ba3-a078-38fd9764c7a9
DTSTART:20260425T090000
DTEND:20260425T093000
DESCRIPTION:Inspection for 303 / 3 Madden Close\, BOTANY NSW 2019
LOCATION:303 / 3 Madden Close\, BOTANY NSW 2019
SUMMARY:303 / 3 Madden Close\, BOTANY NSW 2019
END:VEVENT
END:VCALENDAR
