BEGIN:VCALENDAR
VERSION:2.0
PRODID:-//Acme Widgets\, Inc.//NONSGML ExportToCalendar//EN
CALSCALE:GREGORIAN
BEGIN:VEVENT
DTSTAMP:20260424T114859Z
UID:04d41fa0-369b-4a75-98bc-04072593132f
DTSTART:20260502T090000
DTEND:20260502T093000
DESCRIPTION:Inspection for 303 / 3 Madden Close\, BOTANY NSW 2019
LOCATION:303 / 3 Madden Close\, BOTANY NSW 2019
SUMMARY:303 / 3 Madden Close\, BOTANY NSW 2019
END:VEVENT
END:VCALENDAR
